BEGIN:VCALENDAR
VERSION:2.0
PRODID:-//The Barking Barley - ECPv6.15.20//NONSGML v1.0//EN
CALSCALE:GREGORIAN
METHOD:PUBLISH
X-WR-CALNAME:The Barking Barley
X-ORIGINAL-URL:https://barkingbarley.com
X-WR-CALDESC:Events for The Barking Barley
REFRESH-INTERVAL;VALUE=DURATION:PT1H
X-Robots-Tag:noindex
X-PUBLISHED-TTL:PT1H
BEGIN:VTIMEZONE
TZID:America/New_York
BEGIN:DAYLIGHT
TZOFFSETFROM:-0500
TZOFFSETTO:-0400
TZNAME:EDT
DTSTART:20250309T070000
END:DAYLIGHT
BEGIN:STANDARD
TZOFFSETFROM:-0400
TZOFFSETTO:-0500
TZNAME:EST
DTSTART:20251102T060000
END:STANDARD
BEGIN:DAYLIGHT
TZOFFSETFROM:-0500
TZOFFSETTO:-0400
TZNAME:EDT
DTSTART:20260308T070000
END:DAYLIGHT
BEGIN:STANDARD
TZOFFSETFROM:-0400
TZOFFSETTO:-0500
TZNAME:EST
DTSTART:20261101T060000
END:STANDARD
BEGIN:DAYLIGHT
TZOFFSETFROM:-0500
TZOFFSETTO:-0400
TZNAME:EDT
DTSTART:20270314T070000
END:DAYLIGHT
BEGIN:STANDARD
TZOFFSETFROM:-0400
TZOFFSETTO:-0500
TZNAME:EST
DTSTART:20271107T060000
END:STANDARD
END:VTIMEZONE
BEGIN:VEVENT
DTSTART;TZID=America/New_York:20260527T180000
DTEND;TZID=America/New_York:20260527T200000
DTSTAMP:20260421T145427
CREATED:20260420T201623Z
LAST-MODIFIED:20260421T012636Z
UID:10001050-1779904800-1779912000@barkingbarley.com
SUMMARY:Dog Eared Book Club - Cherry Baby
DESCRIPTION:We’re launching our very first Dog-Eared Book Club at Barking Barley\, co-hosted with Novel Gifts—and you’re invited to be part of the pack. \nJoin us on Wednesday\, May 27th from 6–8PM for an evening of books\, brews\, and conversation as we dive into Cherry Baby by Rainbow Rowell. \nThis contemporary romance follows Cherry as she navigates identity\, love\, and second chances after her life is turned upside down. It’s sharp\, honest\, and built for a great group discussion. \nYour ticket includes: \n\nA copy of Cherry Baby\nYour first beer\n\nBring your dog\, grab a drink\, and settle in for a relaxed night of connection and conversation. \nSee you in the park!
URL:https://barkingbarley.com/event/dog-eared-book-club-cherry-baby/
LOCATION:The Barking Barley\, 1515 Olde William Street\, Fredericksburg\, VA\, 22401\, United States
CATEGORIES:Book Club
ATTACH;FMTTYPE=image/jpeg:https://barkingbarley.com/wp-content/uploads/2026/04/71xLDEiZT5L._AC_UF10001000_QL80_.jpg
ORGANIZER;CN="The Barking Barley":MAILTO:info@barkingbarley.com
END:VEVENT
END:VCALENDAR